BEGIN:VCALENDAR
VERSION:2.0
PRODID:-//Chicago History Museum - ECPv6.15.12.2//NONSGML v1.0//EN
CALSCALE:GREGORIAN
METHOD:PUBLISH
X-ORIGINAL-URL:https://www.chicagohistory.org
X-WR-CALDESC:Events for Chicago History Museum
REFRESH-INTERVAL;VALUE=DURATION:PT1H
X-Robots-Tag:noindex
X-PUBLISHED-TTL:PT1H
BEGIN:VTIMEZONE
TZID:America/Chicago
BEGIN:DAYLIGHT
TZOFFSETFROM:-0600
TZOFFSETTO:-0500
TZNAME:CDT
DTSTART:20250309T080000
END:DAYLIGHT
BEGIN:STANDARD
TZOFFSETFROM:-0500
TZOFFSETTO:-0600
TZNAME:CST
DTSTART:20251102T070000
END:STANDARD
BEGIN:DAYLIGHT
TZOFFSETFROM:-0600
TZOFFSETTO:-0500
TZNAME:CDT
DTSTART:20260308T080000
END:DAYLIGHT
BEGIN:STANDARD
TZOFFSETFROM:-0500
TZOFFSETTO:-0600
TZNAME:CST
DTSTART:20261101T070000
END:STANDARD
BEGIN:DAYLIGHT
TZOFFSETFROM:-0600
TZOFFSETTO:-0500
TZNAME:CDT
DTSTART:20270314T080000
END:DAYLIGHT
BEGIN:STANDARD
TZOFFSETFROM:-0500
TZOFFSETTO:-0600
TZNAME:CST
DTSTART:20271107T070000
END:STANDARD
END:VTIMEZONE
BEGIN:VEVENT
DTSTART;TZID=America/Chicago:20260603T180000
DTEND;TZID=America/Chicago:20260603T180000
DTSTAMP:20260419T113336
CREATED:20260327T154048Z
LAST-MODIFIED:20260327T154048Z
UID:10000584-1780509600-1780509600@www.chicagohistory.org
SUMMARY:32nd Annual Making History Awards
DESCRIPTION:
URL:https://www.chicagohistory.org/event/making-history-awards-2026/
LOCATION:The Four Seasons Hotel\, 120 E. Delaware Pl.\, Chicago\, IL\, 60611\, United States
ATTACH;FMTTYPE=image/jpeg:https://www.chicagohistory.org/app/uploads/2023/10/MHA-Logo-11.jpg
END:VEVENT
BEGIN:VEVENT
DTSTART;TZID=America/Chicago:20260613T123000
DTEND;TZID=America/Chicago:20260613T150000
DTSTAMP:20260419T113336
CREATED:20260120T163438Z
LAST-MODIFIED:20260121T174731Z
UID:10000567-1781353800-1781362800@www.chicagohistory.org
SUMMARY:Partner Event | Dave Truitt Film Series - “Holding Pattern”
DESCRIPTION:In the late 1960s\, a massive third Chicagoland airport was proposed on land occupied by cornfields and farmhouses in Chicago’s rural south exurbs. Despite millions of dollars and more than 30 years of planning\, this airport has yet to materialize. The proposal itself has created deep divisions in the region. One side perceives the airport as an anchor to its much needed economic salvation. The other views it as an engine of urban sprawl and the destruction to their way of life. \nJoin us for the world premiere of the documentary film\, Holding Pattern\, which explores this divisive issue through the stories of four believers—two airport supporters and two of its strongest opponents. \nFree; RSVP required. \nThe screening of the documentary Holding Pattern is underwritten by the DAVE TRUITT Historical Documentary Series. \nQuestions? Contact Eric Miller\, development coordinator\, at miller@chicagohistory.org or (312) 799-2110.
URL:https://www.chicagohistory.org/event/partner-event-dave-truitt-film-series-holding-pattern/
LOCATION:Chicago History Museum\, 1601 N. Clark St.\, Chicago\, IL\, 60614\, United States
CATEGORIES:Film Screening,Free Event,Partner Event
ATTACH;FMTTYPE=image/png:https://www.chicagohistory.org/app/uploads/2025/12/HOLDING-PATTERN.png
END:VEVENT
END:VCALENDAR