BEGIN:VCALENDAR
VERSION:2.0
PRODID:-//Chicago History Museum - ECPv6.15.12.2//NONSGML v1.0//EN
CALSCALE:GREGORIAN
METHOD:PUBLISH
X-ORIGINAL-URL:https://www.chicagohistory.org
X-WR-CALDESC:Events for Chicago History Museum
REFRESH-INTERVAL;VALUE=DURATION:PT1H
X-Robots-Tag:noindex
X-PUBLISHED-TTL:PT1H
BEGIN:VTIMEZONE
TZID:America/Chicago
BEGIN:DAYLIGHT
TZOFFSETFROM:-0600
TZOFFSETTO:-0500
TZNAME:CDT
DTSTART:20250309T080000
END:DAYLIGHT
BEGIN:STANDARD
TZOFFSETFROM:-0500
TZOFFSETTO:-0600
TZNAME:CST
DTSTART:20251102T070000
END:STANDARD
BEGIN:DAYLIGHT
TZOFFSETFROM:-0600
TZOFFSETTO:-0500
TZNAME:CDT
DTSTART:20260308T080000
END:DAYLIGHT
BEGIN:STANDARD
TZOFFSETFROM:-0500
TZOFFSETTO:-0600
TZNAME:CST
DTSTART:20261101T070000
END:STANDARD
BEGIN:DAYLIGHT
TZOFFSETFROM:-0600
TZOFFSETTO:-0500
TZNAME:CDT
DTSTART:20270314T080000
END:DAYLIGHT
BEGIN:STANDARD
TZOFFSETFROM:-0500
TZOFFSETTO:-0600
TZNAME:CST
DTSTART:20271107T070000
END:STANDARD
END:VTIMEZONE
BEGIN:VEVENT
DTSTART;TZID=America/Chicago:20260114T140000
DTEND;TZID=America/Chicago:20260114T144500
DTSTAMP:20260419T131902
CREATED:20251204T171651Z
LAST-MODIFIED:20251204T171651Z
UID:10000546-1768399200-1768401900@www.chicagohistory.org
SUMMARY:Curator-Led Gallery Tour of “Aquí en Chicago”
DESCRIPTION:Chicago has been home to Latino/a/e communities since the 1800s. Their descendants have actively carried on and protected Latino/a/e cultural heritages and traditions. Today they stand firm in the face of systems and policies of oppression and remain Here in Chicago—Aquí en Chicago. \nJoin us for a curator-led tour of our newest exhibition\, Aquí en Chicago\, as a part of your visit to the Chicago History Museum. Learn more about Chicago’s Latino/a/e communities and their histories in the city\, starting with the earliest arrivals in the late 1800s\, all through the lens of experts who curated this groundbreaking exhibition! This tour will be in English\, but Spanish-language tours are available on other dates. \nMeet at the entrance of Aquí en Chicago. \nIncluded with general admission. RSVP required.
URL:https://www.chicagohistory.org/event/curator-led-gallery-tour-of-aqui-en-chicago-1-14/
LOCATION:Chicago History Museum\, 1601 N. Clark St.\, Chicago\, IL\, 60614\, United States
CATEGORIES:Public Gallery Tour
ATTACH;FMTTYPE=image/jpeg:https://www.chicagohistory.org/app/uploads/2025/06/CHM_Aqui_WebHeader_1500x650_Opt1.jpg
END:VEVENT
BEGIN:VEVENT
DTSTART;TZID=America/Chicago:20260115T190000
DTEND;TZID=America/Chicago:20260115T200000
DTSTAMP:20260419T131902
CREATED:20251208T220652Z
LAST-MODIFIED:20251208T220652Z
UID:10000550-1768503600-1768507200@www.chicagohistory.org
SUMMARY:Virtual Partner Event | Chicago Urban History Seminar
DESCRIPTION:
URL:https://www.chicagohistory.org/event/virtual-partner-event-chicago-urban-history-seminar-1-15/
LOCATION:Zoom\, from anywhere
CATEGORIES:Free Event,Partner Event,Virtual Event
ATTACH;FMTTYPE=image/jpeg:https://www.chicagohistory.org/app/uploads/2024/11/CHM_UHS_WebBanner_1500x650_Opt1.jpg
END:VEVENT
BEGIN:VEVENT
DTSTART;TZID=America/Chicago:20260119T100000
DTEND;TZID=America/Chicago:20260119T160000
DTSTAMP:20260419T131902
CREATED:20251114T033822Z
LAST-MODIFIED:20260114T215055Z
UID:10000537-1768816800-1768838400@www.chicagohistory.org
SUMMARY:Commemorative Day | Martin Luther King Jr. Day
DESCRIPTION:At this family-focused celebration of Dr. King’s ongoing influence on the fight for civil rights\, enjoy hands-on activities and learn how to become more civically engaged in your community. \nIncluded with admission\, which is FREE for Illinois residents on this day. \nSchedule\n11:00 a.m.–12:00 p.m. – Freedom Song Sing-Along with Lenny Marsh and Friends \nLenny Marsh and Friends return to CHM to lead us through a musical performance of songs inspired by the Civil Rights Movement. Come sing and dance along with the band and have your voices heard! \n11:00 a.m.–3:00 p.m. – Button Making for Justice \nJoin us to create your own buttons to celebrate the legacy of Dr. King and the continuing push for a more just and equitable society. Wear your button with pride as you explore our exhibitions and other programming throughout the day! \n11:00 a.m.–3:00 p.m. – Make-n-Take Arts: Printmaking with Purpose with Jomo Cheatham \nChicago-based artists like Dr. Margaret Burroughs and Carlos Cortez have used various types of printmaking to create socially conscious and culturally meaningful pieces of art that speak to the needs and histories of many different groups of people. \nJoin teaching artist and practitioner Jomo Cheatham as he leads you through making your own prints. Using a variety of simple tools\, design your own image\, and Jomo will transfer it onto cardstock. Once the ink has dried\, you can take your creation home and make more prints on your own! \n12:00–1:00 p.m. – Public Talk – Dr. Elizabeth Todd-Breland \nHear from Dr. Elizabeth Todd-Breland of the University of Illinois Chicago\, whose research and teaching focuses on 20th-century US urban and social history\, African American history\, and the history of education. Her work also explores interdisciplinary issues related to racial and economic inequality\, public policy\, neighborhood transformation\, education policy\, and civic engagement. \n12:00–2:00 p.m. – Poems While You Wait \nFounded in 2011 by Dave Landsberger\, Kathleen Rooney\, and Eric Plattner\, Poems While You Wait is a collective of poets and their manual typewriters whose mission is to appear around the city in public places to provide patrons with a magical\, unexpected\, unpretentious\, and decontextualized encounter with poetry. Visitors provide the poets with a subject and will receive their own unique hand-typed poem in minutes! No requested topic is too big or too small\, too funny or too sad\, too silly or too serious. \n1:00–2:30 p.m. – Lawndale King Staged Reading \nCollaboraction Theatre will present a free staged reading of Lawndale King\, Willie Round’s powerful new play about Dr. Martin Luther King Jr.’s time living in Chicago’s North Lawndale community. Legendary Chicago director and filmmaker Pemon Rami will direct the reading and join Round for a post-show discussion. \nLawndale King revives the chapter in Dr. Martin Luther King Jr.’s life in 1966 when he moved his family to live in an apartment in North Lawndale on Chicago’s West Side. Gripping scenes and vivid community voices tell the intertwined stories of activists\, families\, slumlords\, gangs\, pastors and neighborhood youth\, revealing the tension\, hope\, and courage that defined one of King’s most dangerous missions – joining the Chicago Freedom Movement to fight discriminatory housing practices. Intimate and sweeping\, Lawndale King showcases Chicago’s West Side as a battleground for justice\, capturing the humanity\, humor\, fear\, and resilience of a community standing at the crossroads of change. \n2:30–3:00 p.m. – Lawndale King Panel Discussion
URL:https://www.chicagohistory.org/event/martin-luther-king-jr-day-2026/
LOCATION:Chicago History Museum\, 1601 N. Clark St.\, Chicago\, IL\, 60614\, United States
CATEGORIES:Commemorative Day
ATTACH;FMTTYPE=image/png:https://www.chicagohistory.org/app/uploads/2024/11/MLK-Day-2024-Header.png
END:VEVENT
BEGIN:VEVENT
DTSTART;TZID=America/Chicago:20260125T113000
DTEND;TZID=America/Chicago:20260125T140000
DTSTAMP:20260419T131902
CREATED:20251117T214457Z
LAST-MODIFIED:20260122T162030Z
UID:10000540-1769340600-1769349600@www.chicagohistory.org
SUMMARY:The Guild Presents | This Too Shall Burn: America in the Age of Wood
DESCRIPTION:The United States has been\, historically\, a land of trees. This made its built environment thoroughly wooden and\, consequently\, alarmingly combustible. In the same way that fossil fuels are today the source of our abundance but also the cause of increasingly destructive climate disasters\, wood was the source of US abundance and the cause of constant\, harrowing fires. \nThe Guild of the Chicago History Museum invites you to brunch and a lecture by Daniel Immerwahr\, author and Bergen Evans Professor in the Humanities at Northwestern University\, on how those hair-raising fires have shaped—or scarred—the American past. \nFire Sponsor – 2 tickets\, $250. \nIndividual Ticket – 1 ticket\, $90. \nQuestions? Contact Eva Rachau\, director of development\, at rachau@chicagohistory.org or (312) 799-2116.
URL:https://www.chicagohistory.org/event/the-guild-presents-this-too-shall-burn-america-in-the-age-of-wood/
LOCATION:Saddle & Cycle Club\, 900 W. Foster Ave.\, Chicago\, IL\, 60640\, United States
CATEGORIES:The Guild
ATTACH;FMTTYPE=image/jpeg:https://www.chicagohistory.org/app/uploads/2021/08/i063773_pm.jpg
END:VEVENT
BEGIN:VEVENT
DTSTART;TZID=America/Chicago:20260127T140000
DTEND;TZID=America/Chicago:20260127T144500
DTSTAMP:20260419T131902
CREATED:20251204T171810Z
LAST-MODIFIED:20251204T171810Z
UID:10000548-1769522400-1769525100@www.chicagohistory.org
SUMMARY:Visita guiada con uno de los conservadores de “Aquí en Chicago”
DESCRIPTION:Las comunidades latinas se han establecido en Chicago desde el siglo XIX. Sus descendientes han continuado con este legado\, protegiendo las herencias y tradiciones culturales latinas. Hoy se mantienen firmes ante sistemas y políticas de opresión\, y permanecen Aquí en Chicago. \nAcompáñanos en recorridos guiados por los conservadoresde nuestra nueva exposición\, Aquí en Chicago\, como parte de tu visita al Chicago History Museum en las siguientes fechas. Habrá recorridos en inglés y en español.  Este recorrido será en español\, pero hay recorridos en inglés disponibles en otras fechas. \nDurante estos recorridos de 45 minutos\, aprenderás más sobre las comunidades latinas de Chicago y sus historias en la ciudad\, desde los primeros en llegar a fines del siglo XIX hasta el presente\, todo a través de la perspectiva de los expertos que diseñaron esta innovadora exposición para el CHM! \nLa visita comienza en la entrada de Aquí en Chicago. Incluido en la entrada general. Se requiere confirmación de asistencia. 
URL:https://www.chicagohistory.org/event/visita-guiada-con-uno-de-los-conservadores-de-aqui-en-chicago-1-27/
LOCATION:Chicago History Museum\, 1601 N. Clark St.\, Chicago\, IL\, 60614\, United States
CATEGORIES:Public Gallery Tour
ATTACH;FMTTYPE=image/jpeg:https://www.chicagohistory.org/app/uploads/2025/06/CHM_Aqui_WebHeader_1500x650_Opt1.jpg
END:VEVENT
BEGIN:VEVENT
DTSTART;TZID=America/Chicago:20260128T100000
DTEND;TZID=America/Chicago:20260128T110000
DTSTAMP:20260419T131902
CREATED:20251208T225910Z
LAST-MODIFIED:20251209T174444Z
UID:10000549-1769594400-1769598000@www.chicagohistory.org
SUMMARY:Member Event | Coffee with a Curator
DESCRIPTION:Members are invited to enjoy coffee and conversation with Rebekah Coffman\, Curator of Religion and Community History! Learn about her work at CHM\, such as our ongoing Chicago Sacred Initiative. \nFree for members; RSVP required.
URL:https://www.chicagohistory.org/event/member-event-coffee-with-a-curator-2026/
LOCATION:Chicago History Museum\, 1601 N. Clark St.\, Chicago\, IL\, 60614\, United States
CATEGORIES:Member Event
ATTACH;FMTTYPE=image/png:https://www.chicagohistory.org/app/uploads/2025/05/Chicago-Sacred-banner.png
END:VEVENT
END:VCALENDAR