BEGIN:VCALENDAR
VERSION:2.0
PRODID:-//Chicago History Museum - ECPv6.15.12.2//NONSGML v1.0//EN
CALSCALE:GREGORIAN
METHOD:PUBLISH
X-WR-CALNAME:Chicago History Museum
X-ORIGINAL-URL:https://www.chicagohistory.org
X-WR-CALDESC:Events for Chicago History Museum
REFRESH-INTERVAL;VALUE=DURATION:PT1H
X-Robots-Tag:noindex
X-PUBLISHED-TTL:PT1H
BEGIN:VTIMEZONE
TZID:America/Chicago
BEGIN:DAYLIGHT
TZOFFSETFROM:-0600
TZOFFSETTO:-0500
TZNAME:CDT
DTSTART:20230312T080000
END:DAYLIGHT
BEGIN:STANDARD
TZOFFSETFROM:-0500
TZOFFSETTO:-0600
TZNAME:CST
DTSTART:20231105T070000
END:STANDARD
BEGIN:DAYLIGHT
TZOFFSETFROM:-0600
TZOFFSETTO:-0500
TZNAME:CDT
DTSTART:20240310T080000
END:DAYLIGHT
BEGIN:STANDARD
TZOFFSETFROM:-0500
TZOFFSETTO:-0600
TZNAME:CST
DTSTART:20241103T070000
END:STANDARD
BEGIN:DAYLIGHT
TZOFFSETFROM:-0600
TZOFFSETTO:-0500
TZNAME:CDT
DTSTART:20250309T080000
END:DAYLIGHT
BEGIN:STANDARD
TZOFFSETFROM:-0500
TZOFFSETTO:-0600
TZNAME:CST
DTSTART:20251102T070000
END:STANDARD
BEGIN:DAYLIGHT
TZOFFSETFROM:-0600
TZOFFSETTO:-0500
TZNAME:CDT
DTSTART:20260308T080000
END:DAYLIGHT
BEGIN:STANDARD
TZOFFSETFROM:-0500
TZOFFSETTO:-0600
TZNAME:CST
DTSTART:20261101T070000
END:STANDARD
END:VTIMEZONE
BEGIN:VEVENT
DTSTART;TZID=America/Chicago:20250112T140000
DTEND;TZID=America/Chicago:20250112T140000
DTSTAMP:20260422T222409
CREATED:20241209T214701Z
LAST-MODIFIED:20250110T205208Z
UID:10000313-1736690400-1736690400@www.chicagohistory.org
SUMMARY:SOLD OUT! Partner Event | Screening of The Supremes at Earl's All-You-Can-Eat
DESCRIPTION:Presented in partnership with Chicago Sinfonietta\, join us for a FREE screening of The Supremes at Earl’s All-You-Can-Eat\, complete with Q&A with author and Chicago Sinfonietta cellist Edward Kelsey Moore\, and performance by the Chicago Sinfonietta’s String Quartet. \nA literary and musical masterpiece\, this heartwarming film is based on Edward Kelsey Moore’s NYT best-selling novel with an award-winning soundtrack composed by Kathryn Bostic\, former Artist-in-Residence for the Chicago Sinfonietta. The Supremes at Earl’s All-You-Can-Eat follows lifelong best friends Odette (Aunjanue Ellis-Taylor)\, Barbara Jean (Sanaa Lathan)\, and Clarice (Uzo Aduba) known as “The Supremes\,” who share the unbreakable bonds of sisterhood from decades of weathering life’s storms. Through the joys and sorrows of life\, marriage and children\, happiness and blues\, love and loss\, new shades of heartbreak and illness threaten to stir up the past when the trio sees their bond put to the test as they face their most challenging times yet. \nFree; RSVP required.
URL:https://www.chicagohistory.org/event/partner-event-screening-of-the-supremes-at-earls-all-you-can-eat/
LOCATION:Chicago History Museum\, 1601 N. Clark St.\, Chicago\, IL\, 60614\, United States
CATEGORIES:Film Screening,Free Event,Partner Event
ATTACH;FMTTYPE=image/jpeg:https://www.chicagohistory.org/app/uploads/2024/12/Chicago-Sinfonietta-A-Special-Film-Screening-Banner-cropped.jpg
END:VEVENT
BEGIN:VEVENT
DTSTART;TZID=America/Chicago:20240913T100000
DTEND;TZID=America/Chicago:20240913T160000
DTSTAMP:20260422T222409
CREATED:20240910T203335Z
LAST-MODIFIED:20240910T203759Z
UID:10000277-1726221600-1726243200@www.chicagohistory.org
SUMMARY:Partner Event | Design as Activism Symposium
DESCRIPTION:As calls for racial justice\, climate action\, and gender equity grow louder and more urgent\, designers\, activists\, and makers ask: How can we challenge social inequities and systemic oppression in order to activate a better tomorrow? \nIn partnership with the Chicago History Museum\, the Institute of Design at the Illinois Institute of Technology (IIT) is offering a two-day\, public Design as Activism Symposium convening design leaders and community organizers in Chicago to explore community-led design approaches that bring about positive impact and to consider the evolving partnership between design as activism. \nIn addition to virtual presentations and other pop-up events throughout Chicago\, on Friday\, September 13\, the Museum is hosting two workshops and several tours of our newest exhibition\, Designing for Change: Chicago Protest Art of the 1960s–70s. \nFree and open to the public until full. Registration required for workshops. Public tours of Designing for Change meet at the gallery entrance on the 2nd floor. \nSchedule\n10:00–11:15 a.m. – Healing Justice Workshop \n11:00 a.m.–12:00 p.m. – Tour of Designing for Change exhibition \n1:00–2:00 p.m. – Tour of Designing for Change exhibition \n1:00–3:00 p.m. – Intro to Craftivism Workshop with Shannon Downey of Badass Cross Stitch \n3:00–4:00 p.m. – Tour of Designing for Change exhibition \nPlease visit the Design as Activism Symposium website for more information or to register for workshops and virtual online sessions. \nThis event is supported by the Terra Foundation as part of its Art Design Chicago.
URL:https://www.chicagohistory.org/event/partner-event-design-as-activism-symposium/
LOCATION:Chicago History Museum\, 1601 N. Clark St.\, Chicago\, IL\, 60614\, United States
CATEGORIES:Partner Event
ATTACH;FMTTYPE=image/jpeg:https://www.chicagohistory.org/app/uploads/2024/03/DFC_web-174513238.jpg
END:VEVENT
END:VCALENDAR